Workbook

Sheet Labor Log
A1: Labor Histogram Excel Template - Labor Log
A2: Date | B2: Employee Name | C2: Department | D2: Job Role | E2: Shift | F2: Regular Hours | G2: Overtime Hours | H2: Hourly Rate | I2: OT Multiplier | J2: Regular Pay | K2: OT Pay | L2: Total Pay | M2: Status
A3: 46174 | B3: James Carter | C3: Warehouse | D3: Loader | E3: Day | F3: 8 | G3: 2 | H3: 22.5 | I3: 1.5 | J3: =F3*H3 | K3: =G3*H3*I3 | L3: =J3+K3 | M3: =IF(OR(F3+G3=0,L3=0),"No Hours","Worked")
A4: 46175 | B4: Emily Johnson | C4: Logistics | D4: Coordinator | E4: Swing | F4: 7.5 | G4: 0 | H4: 26 | I4: 1.5 | J4: =F4*H4 | K4: =G4*H4*I4 | L4: =J4+K4 | M4: =IF(OR(F4+G4=0,L4=0),"No Hours","Worked")
A5: 46176 | B5: Michael Brown | C5: Production | D5: Technician | E5: Night | F5: 9 | G5: 1.5 | H5: 24.75 | I5: 1.5 | J5: =F5*H5 | K5: =G5*H5*I5 | L5: =J5+K5 | M5: =IF(OR(F5+G5=0,L5=0),"No Hours","Worked")
A6: 46177 | B6: Ashley Davis | C6: Warehouse | D6: Picker | E6: Day | F6: 8 | G6: 0 | H6: 19.5 | I6: 1.5 | J6: =F6*H6 | K6: =G6*H6*I6 | L6: =J6+K6 | M6: =IF(OR(F6+G6=0,L6=0),"No Hours","Worked")
A7: 46178 | B7: David Wilson | C7: Maintenance | D7: Electrician | E7: Night | F7: 10 | G7: 2 | H7: 32 | I7: 1.5 | J7: =F7*H7 | K7: =G7*H7*I7 | L7: =J7+K7 | M7: =IF(OR(F7+G7=0,L7=0),"No Hours","Worked")
A8: 46179 | B8: Jessica Martinez | C8: Logistics | D8: Supervisor | E8: Swing | F8: 8 | G8: 1 | H8: 28.5 | I8: 1.5 | J8: =F8*H8 | K8: =G8*H8*I8 | L8: =J8+K8 | M8: =IF(OR(F8+G8=0,L8=0),"No Hours","Worked")
A9: 46180 | B9: Chris Anderson | C9: Production | D9: Operator | E9: Day | F9: 7 | G9: 0.5 | H9: 23 | I9: 1.5 | J9: =F9*H9 | K9: =G9*H9*I9 | L9: =J9+K9 | M9: =IF(OR(F9+G9=0,L9=0),"No Hours","Worked")
A10: 46181 | B10: Sarah Thompson | C10: Warehouse | D10: Forklift Operator | E10: Day | F10: 8 | G10: 1 | H10: 21 | I10: 1.5 | J10: =F10*H10 | K10: =G10*H10*I10 | L10: =J10+K10 | M10: =IF(OR(F10+G10=0,L10=0),"No Hours","Worked")
A11: 46182 | B11: Robert Garcia | C11: Maintenance | D11: Mechanic | E11: Night | F11: 9 | G11: 0 | H11: 27 | I11: 1.5 | J11: =F11*H11 | K11: =G11*H11*I11 | L11: =J11+K11 | M11: =IF(OR(F11+G11=0,L11=0),"No Hours","Worked")
A12: 46183 | B12: Amanda Lee | C12: Logistics | D12: Clerk | E12: Swing | F12: 6.5 | G12: 0 | H12: 18.5 | I12: 1.5 | J12: =F12*H12 | K12: =G12*H12*I12 | L12: =J12+K12 | M12: =IF(OR(F12+G12=0,L12=0),"No Hours","Worked")
B13: TOTAL | F13: =SUM(F3:F12) | G13: =SUM(G3:G12) | J13: =SUM(J3:J12) | K13: =SUM(K3:K12) | L13: =SUM(L3:L12)

Sheet Histogram Dashboard
A1: Histogram Dashboard - Labor Hours Overview
A3: Key Metrics | D3: Daily Labor Hours | I3: Employee Total Hours
A4: Total Regular Hours | B4: =SUM('Labor Log'!F3:F12) | D4: Date | E4: Regular Hours | F4: Overtime Hours | G4: Total Hours | I4: Employee Name | J4: Total Hours
A5: Total Overtime Hours | B5: =SUM('Labor Log'!G3:G12) | D5: ='Labor Log'!A3 | E5: ='Labor Log'!F3 | F5: ='Labor Log'!G3 | G5: =E5+F5 | I5: ='Labor Log'!B3 | J5: ='Labor Log'!F3+'Labor Log'!G3
A6: Total Labor Hours | B6: =B4+B5 | D6: ='Labor Log'!A4 | E6: ='Labor Log'!F4 | F6: ='Labor Log'!G4 | G6: =E6+F6 | I6: ='Labor Log'!B4 | J6: ='Labor Log'!F4+'Labor Log'!G4
A7: Average Labor Hours per Employee | B7: =IFERROR(B6/COUNTA('Labor Log'!B3:B12),0) | D7: ='Labor Log'!A5 | E7: ='Labor Log'!F5 | F7: ='Labor Log'!G5 | G7: =E7+F7 | I7: ='Labor Log'!B5 | J7: ='Labor Log'!F5+'Labor Log'!G5
A8: Total Labor Cost | B8: =SUM('Labor Log'!L3:L12) | D8: ='Labor Log'!A6 | E8: ='Labor Log'!F6 | F8: ='Labor Log'!G6 | G8: =E8+F8 | I8: ='Labor Log'!B6 | J8: ='Labor Log'!F6+'Labor Log'!G6
A9: Overtime Rate (% of Total Hours) | B9: =IFERROR(B5/B6,0) | D9: ='Labor Log'!A7 | E9: ='Labor Log'!F7 | F9: ='Labor Log'!G7 | G9: =E9+F9 | I9: ='Labor Log'!B7 | J9: ='Labor Log'!F7+'Labor Log'!G7
A10: Overtime Risk Flag | B10: =IF(B9>0.1,"High","Normal") | D10: ='Labor Log'!A8 | E10: ='Labor Log'!F8 | F10: ='Labor Log'!G8 | G10: =E10+F10 | I10: ='Labor Log'!B8 | J10: ='Labor Log'!F8+'Labor Log'!G8
A11: Employees With Overtime > 0 | B11: =COUNTIF('Labor Log'!G3:G12,">0") | D11: ='Labor Log'!A9 | E11: ='Labor Log'!F9 | F11: ='Labor Log'!G9 | G11: =E11+F11 | I11: ='Labor Log'!B9 | J11: ='Labor Log'!F9+'Labor Log'!G9
D12: ='Labor Log'!A10 | E12: ='Labor Log'!F10 | F12: ='Labor Log'!G10 | G12: =E12+F12 | I12: ='Labor Log'!B10 | J12: ='Labor Log'!F10+'Labor Log'!G10
A13: Employee Lookup | D13: ='Labor Log'!A11 | E13: ='Labor Log'!F11 | F13: ='Labor Log'!G11 | G13: =E13+F13 | I13: ='Labor Log'!B11 | J13: ='Labor Log'!F11+'Labor Log'!G11
A14: Enter Employee Name | B14: James Carter | D14: ='Labor Log'!A12 | E14: ='Labor Log'!F12 | F14: ='Labor Log'!G12 | G14: =E14+F14 | I14: ='Labor Log'!B12 | J14: ='Labor Log'!F12+'Labor Log'!G12
A15: Department (VLOOKUP) | B15: =IFERROR(VLOOKUP(B14,'Labor Log'!B3:C12,2,FALSE),"Not Found")
A16: Hourly Rate (VLOOKUP) | B16: =IFERROR(VLOOKUP(B14,'Labor Log'!B3:H12,7,FALSE),0)
L38: Hour Type | M38: Hours
L39: Regular Hours | M39: =B4
L40: Overtime Hours | M40: =B5

Sheet Summary
A1: Summary - Labor Hours & Pay by Employee
A2: Employee Name | B2: Department | C2: Total Hours | D2: Total Pay | E2: Overtime Hours | F2: Overtime Flag
A3: James Carter | B3: =IFERROR(VLOOKUP(A3,'Labor Log'!B3:C12,2,FALSE),"") | C3: =SUMIF('Labor Log'!B3:B12,A3,'Labor Log'!F3:F12)+SUMIF('Labor Log'!B3:B12,A3,'Labor Log'!G3:G12) | D3: =SUMIF('Labor Log'!B3:B12,A3,'Labor Log'!L3:L12) | E3: =SUMIF('Labor Log'!B3:B12,A3,'Labor Log'!G3:G12) | F3: =IF(E3>0,"Yes","No")
A4: Emily Johnson | B4: =IFERROR(VLOOKUP(A4,'Labor Log'!B3:C12,2,FALSE),"") | C4: =SUMIF('Labor Log'!B3:B12,A4,'Labor Log'!F3:F12)+SUMIF('Labor Log'!B3:B12,A4,'Labor Log'!G3:G12) | D4: =SUMIF('Labor Log'!B3:B12,A4,'Labor Log'!L3:L12) | E4: =SUMIF('Labor Log'!B3:B12,A4,'Labor Log'!G3:G12) | F4: =IF(E4>0,"Yes","No")
A5: Michael Brown | B5: =IFERROR(VLOOKUP(A5,'Labor Log'!B3:C12,2,FALSE),"") | C5: =SUMIF('Labor Log'!B3:B12,A5,'Labor Log'!F3:F12)+SUMIF('Labor Log'!B3:B12,A5,'Labor Log'!G3:G12) | D5: =SUMIF('Labor Log'!B3:B12,A5,'Labor Log'!L3:L12) | E5: =SUMIF('Labor Log'!B3:B12,A5,'Labor Log'!G3:G12) | F5: =IF(E5>0,"Yes","No")
A6: Ashley Davis | B6: =IFERROR(VLOOKUP(A6,'Labor Log'!B3:C12,2,FALSE),"") | C6: =SUMIF('Labor Log'!B3:B12,A6,'Labor Log'!F3:F12)+SUMIF('Labor Log'!B3:B12,A6,'Labor Log'!G3:G12) | D6: =SUMIF('Labor Log'!B3:B12,A6,'Labor Log'!L3:L12) | E6: =SUMIF('Labor Log'!B3:B12,A6,'Labor Log'!G3:G12) | F6: =IF(E6>0,"Yes","No")
A7: David Wilson | B7: =IFERROR(VLOOKUP(A7,'Labor Log'!B3:C12,2,FALSE),"") | C7: =SUMIF('Labor Log'!B3:B12,A7,'Labor Log'!F3:F12)+SUMIF('Labor Log'!B3:B12,A7,'Labor Log'!G3:G12) | D7: =SUMIF('Labor Log'!B3:B12,A7,'Labor Log'!L3:L12) | E7: =SUMIF('Labor Log'!B3:B12,A7,'Labor Log'!G3:G12) | F7: =IF(E7>0,"Yes","No")
A8: Jessica Martinez | B8: =IFERROR(VLOOKUP(A8,'Labor Log'!B3:C12,2,FALSE),"") | C8: =SUMIF('Labor Log'!B3:B12,A8,'Labor Log'!F3:F12)+SUMIF('Labor Log'!B3:B12,A8,'Labor Log'!G3:G12) | D8: =SUMIF('Labor Log'!B3:B12,A8,'Labor Log'!L3:L12) | E8: =SUMIF('Labor Log'!B3:B12,A8,'Labor Log'!G3:G12) | F8: =IF(E8>0,"Yes","No")
A9: Chris Anderson | B9: =IFERROR(VLOOKUP(A9,'Labor Log'!B3:C12,2,FALSE),"") | C9: =SUMIF('Labor Log'!B3:B12,A9,'Labor Log'!F3:F12)+SUMIF('Labor Log'!B3:B12,A9,'Labor Log'!G3:G12) | D9: =SUMIF('Labor Log'!B3:B12,A9,'Labor Log'!L3:L12) | E9: =SUMIF('Labor Log'!B3:B12,A9,'Labor Log'!G3:G12) | F9: =IF(E9>0,"Yes","No")
A10: Sarah Thompson | B10: =IFERROR(VLOOKUP(A10,'Labor Log'!B3:C12,2,FALSE),"") | C10: =SUMIF('Labor Log'!B3:B12,A10,'Labor Log'!F3:F12)+SUMIF('Labor Log'!B3:B12,A10,'Labor Log'!G3:G12) | D10: =SUMIF('Labor Log'!B3:B12,A10,'Labor Log'!L3:L12) | E10: =SUMIF('Labor Log'!B3:B12,A10,'Labor Log'!G3:G12) | F10: =IF(E10>0,"Yes","No")
A11: Robert Garcia | B11: =IFERROR(VLOOKUP(A11,'Labor Log'!B3:C12,2,FALSE),"") | C11: =SUMIF('Labor Log'!B3:B12,A11,'Labor Log'!F3:F12)+SUMIF('Labor Log'!B3:B12,A11,'Labor Log'!G3:G12) | D11: =SUMIF('Labor Log'!B3:B12,A11,'Labor Log'!L3:L12) | E11: =SUMIF('Labor Log'!B3:B12,A11,'Labor Log'!G3:G12) | F11: =IF(E11>0,"Yes","No")
A12: Amanda Lee | B12: =IFERROR(VLOOKUP(A12,'Labor Log'!B3:C12,2,FALSE),"") | C12: =SUMIF('Labor Log'!B3:B12,A12,'Labor Log'!F3:F12)+SUMIF('Labor Log'!B3:B12,A12,'Labor Log'!G3:G12) | D12: =SUMIF('Labor Log'!B3:B12,A12,'Labor Log'!L3:L12) | E12: =SUMIF('Labor Log'!B3:B12,A12,'Labor Log'!G3:G12) | F12: =IF(E12>0,"Yes","No")
A13: TOTAL | C13: =SUM(C3:C12) | D13: =SUM(D3:D12) | E13: =SUM(E3:E12) | F13: =COUNTIF(F3:F12,"Yes")&" Overtime"

Sheet Instructions
A1: Instructions - Labor Histogram Excel Template
A3: Labor Log Sheet
A4: Enter one row per employee shift: Date, Employee Name, Department, Job Role, Shift, Regular Hours, Overtime Hours, Hourly Rate, and OT Multiplier. Pale yellow cells (Hourly Rate, OT Multiplier) are meant to be edited. Regular Pay, OT Pay, Total Pay, and Status calculate automatically.
A6: Regular vs Overtime Hours
A7: Regular Hours are hours worked up to the standard shift length. Overtime Hours are any additional hours, typically paid at 1.5x (or your entered OT Multiplier) the hourly rate. Enter both values separately for each shift so pay and totals stay accurate.
A9: Status Column
A10: The Status column shows "No Hours" when both Regular and Overtime Hours are zero, and "Worked" otherwise, helping you quickly spot missing entries.
A12: Histogram Dashboard Sheet
A13: Key Metrics summarize total regular, overtime, and labor hours, average hours per employee, total labor cost, and overtime rate. The Overtime Risk Flag turns High when overtime exceeds 10% of total hours. Use the Employee Lookup box to pull department and hourly rate for any employee by typing their name in the yellow input cell.
A15: Charts
A16: The clustered column chart compares regular vs overtime hours by date. The bar chart ranks total labor hours by employee. The line chart shows the daily labor hours trend. The donut chart shows the overall share of regular vs overtime hours.
A18: Summary Sheet
... A25: Review Hourly Rate and OT Multiplier regularly so Regular Pay, OT Pay, and Total Pay calculations remain accurate as wages or overtime policies change.
