Workbook

Sheet Project Plan
A1: Task ID | B1: Task Name | C1: Project Phase | D1: Milestone | E1: Owner | F1: Department | G1: City | H1: Start Date | I1: Due Date | J1: Status | K1: Priority | L1: Completion % | M1: Planned Hours | N1: Actual Hours | O1: Budget | P1: Actual Cost | Q1: Variance | R1: Days Remaining | S1: On Track? | T1: Notes | U1: Lookup Phase | V1: Reference Milestone | W1: Reference Phase
A2: P-001 | B2: Requirements Workshop | C2: Planning | D2: Requirements Approved | E2: Emily Carter | F2: Product | G2: New York | H2: 46034 | I2: 46059 | J2: Complete | K2: High | L2: 1 | M2: 24 | N2: 26 | O2: 4800 | P2: 5100 | Q2: =IF(OR(A2="",P2=""),"",P2-O2) | R2: =IF(OR(A2="",I2=""),"",IF(J2="Complete",0,I2-TODAY())) | S2: =IF(OR(A2="",I2=""),"",IF(J2="Complete","Complete",IF(R2<0,"At Risk",IF(L2>=0.75,"On Track","Monitor")))) | T2: Stakeholder requirements approved. | U2: =IF(D2="","",IFERROR(VLOOKUP(D2,$V$2:$W$11,2,FALSE),"Not Found")) | V2: Requirements Approved | W2: Planning
A3: P-002 | B3: Project Charter | C3: Planning | D3: Charter Signed | E3: James Wilson | F3: PMO | G3: Chicago | H3: 46041 | I3: 46066 | J3: Complete | K3: High | L3: 1 | M3: 20 | N3: 18 | O3: 3500 | P3: 3200 | Q3: =IF(OR(A3="",P3=""),"",P3-O3) | R3: =IF(OR(A3="",I3=""),"",IF(J3="Complete",0,I3-TODAY())) | S3: =IF(OR(A3="",I3=""),"",IF(J3="Complete","Complete",IF(R3<0,"At Risk",IF(L3>=0.75,"On Track","Monitor")))) | T3: Executive sponsor signed the charter. | U3: =IF(D3="","",IFERROR(VLOOKUP(D3,$V$2:$W$11,2,FALSE),"Not Found")) | V3: Charter Signed | W3: Planning
A4: P-003 | B4: UX Wireframes | C4: Design | D4: Design Review Complete | E4: Ashley Martinez | F4: Design | G4: Austin | H4: 46083 | I4: 46108 | J4: Complete | K4: Medium | L4: 1 | M4: 48 | N4: 46 | O4: 6800 | P4: 6500 | Q4: =IF(OR(A4="",P4=""),"",P4-O4) | R4: =IF(OR(A4="",I4=""),"",IF(J4="Complete",0,I4-TODAY())) | S4: =IF(OR(A4="",I4=""),"",IF(J4="Complete","Complete",IF(R4<0,"At Risk",IF(L4>=0.75,"On Track","Monitor")))) | T4: Reviewed wireframes incorporated into the design system. | U4: =IF(D4="","",IFERROR(VLOOKUP(D4,$V$2:$W$11,2,FALSE),"Not Found")) | V4: Design Review Complete | W4: Design
A5: P-004 | B5: Technical Architecture | C5: Design | D5: Architecture Approved | E5: Michael Brown | F5: Engineering | G5: Seattle | H5: 46118 | I5: 46150 | J5: Complete | K5: High | L5: 1 | M5: 72 | N5: 76 | O5: 12000 | P5: 13000 | Q5: =IF(OR(A5="",P5=""),"",P5-O5) | R5: =IF(OR(A5="",I5=""),"",IF(J5="Complete",0,I5-TODAY())) | S5: =IF(OR(A5="",I5=""),"",IF(J5="Complete","Complete",IF(R5<0,"At Risk",IF(L5>=0.75,"On Track","Monitor")))) | T5: Architecture decision record approved. | U5: =IF(D5="","",IFERROR(VLOOKUP(D5,$V$2:$W$11,2,FALSE),"Not Found")) | V5: Architecture Approved | W5: Design
A6: P-005 | B6: Database Setup | C6: Development | D6: Database Ready | E6: David Johnson | F6: Engineering | G6: Dallas | H6: 46160 | I6: 46192 | J6: Complete | K6: High | L6: 1 | M6: 56 | N6: 54 | O6: 8500 | P6: 8100 | Q6: =IF(OR(A6="",P6=""),"",P6-O6) | R6: =IF(OR(A6="",I6=""),"",IF(J6="Complete",0,I6-TODAY())) | S6: =IF(OR(A6="",I6=""),"",IF(J6="Complete","Complete",IF(R6<0,"At Risk",IF(L6>=0.75,"On Track","Monitor")))) | T6: Production database environment is ready. | U6: =IF(D6="","",IFERROR(VLOOKUP(D6,$V$2:$W$11,2,FALSE),"Not Found")) | V6: Database Ready | W6: Development
A7: P-006 | B7: API Development | C7: Development | D7: API Beta Complete | E7: Chris Davis | F7: Engineering | G7: Houston | H7: 46188 | I7: 46234 | J7: In Progress | K7: High | L7: 0.65 | M7: 140 | N7: 128 | O7: 18000 | P7: 16600 | Q7: =IF(OR(A7="",P7=""),"",P7-O7) | R7: =IF(OR(A7="",I7=""),"",IF(J7="Complete",0,I7-TODAY())) | S7: =IF(OR(A7="",I7=""),"",IF(J7="Complete","Complete",IF(R7<0,"At Risk",IF(L7>=0.75,"On Track","Monitor")))) | T7: Two endpoint groups remain under integration testing. | U7: =IF(D7="","",IFERROR(VLOOKUP(D7,$V$2:$W$11,2,FALSE),"Not Found")) | V7: API Beta Complete | W7: Development
A8: P-007 | B8: User Acceptance Testing | C8: Testing | D8: UAT Sign-Off | E8: Jessica Miller | F8: QA | G8: Los Angeles | H8: 46237 | I8: 46283 | J8: In Progress | K8: High | L8: 0.8 | M8: 96 | N8: 74 | O8: 11000 | P8: 7600 | Q8: =IF(OR(A8="",P8=""),"",P8-O8) | R8: =IF(OR(A8="",I8=""),"",IF(J8="Complete",0,I8-TODAY())) | S8: =IF(OR(A8="",I8=""),"",IF(J8="Complete","Complete",IF(R8<0,"At Risk",IF(L8>=0.75,"On Track","Monitor")))) | T8: Business testers are validating final workflows. | U8: =IF(D8="","",IFERROR(VLOOKUP(D8,$V$2:$W$11,2,FALSE),"Not Found")) | V8: UAT Sign-Off | W8: Testing
A9: P-008 | B9: Training Materials | C9: Launch | D9: Training Complete | E9: Sarah Anderson | F9: Operations | G9: Phoenix | H9: 46258 | I9: 46297 | J9: In Progress | K9: Medium | L9: 0.45 | M9: 44 | N9: 21 | O9: 5400 | P9: 2100 | Q9: =IF(OR(A9="",P9=""),"",P9-O9) | R9: =IF(OR(A9="",I9=""),"",IF(J9="Complete",0,I9-TODAY())) | S9: =IF(OR(A9="",I9=""),"",IF(J9="Complete","Complete",IF(R9<0,"At Risk",IF(L9>=0.75,"On Track","Monitor")))) | T9: Draft facilitator guide is in review. | U9: =IF(D9="","",IFERROR(VLOOKUP(D9,$V$2:$W$11,2,FALSE),"Not Found")) | V9: Training Complete | W9: Launch
A10: P-009 | B10: Production Deployment | C10: Launch | D10: Go-Live | E10: Robert Taylor | F10: IT | G10: San Antonio | H10: 46286 | I10: 46311 | J10: Not Started | K10: High | L10: 0 | M10: 80 | N10: 0 | O10: 15000 | P10: 0 | Q10: =IF(OR(A10="",P10=""),"",P10-O10) | R10: =IF(OR(A10="",I10=""),"",IF(J10="Complete",0,I10-TODAY())) | S10: =IF(OR(A10="",I10=""),"",IF(J10="Complete","Complete",IF(R10<0,"At Risk",IF(L10>=0.75,"On Track","Monitor")))) | T10: Deployment window is reserved with infrastructure operations. | U10: =IF(D10="","",IFERROR(VLOOKUP(D10,$V$2:$W$11,2,FALSE),"Not Found")) | V10: Go-Live | W10: Launch
A11: P-010 | B11: Project Closeout | C11: Closeout | D11: Lessons Learned Complete | E11: Amanda Thomas | F11: PMO | G11: Philadelphia | H11: 46300 | I11: 46325 | J11: Not Started | K11: Low | L11: 0 | M11: 32 | N11: 0 | O11: 4000 | P11: 0 | Q11: =IF(OR(A11="",P11=""),"",P11-O11) | R11: =IF(OR(A11="",I11=""),"",IF(J11="Complete",0,I11-TODAY())) | S11: =IF(OR(A11="",I11=""),"",IF(J11="Complete","Complete",IF(R11<0,"At Risk",IF(L11>=0.75,"On Track","Monitor")))) | T11: Closeout meeting will follow production stabilization. | U11: =IF(D11="","",IFERROR(VLOOKUP(D11,$V$2:$W$11,2,FALSE),"Not Found")) | V11: Lessons Learned Complete | W11: Closeout
Q12: =IF(OR(A12="",P12=""),"",P12-O12) | R12: =IF(OR(A12="",I12=""),"",IF(J12="Complete",0,I12-TODAY())) | S12: =IF(OR(A12="",I12=""),"",IF(J12="Complete","Complete",IF(R12<0,"At Risk",IF(L12>=0.75,"On Track","Monitor")))) | U12: =IF(D12="","",IFERROR(VLOOKUP(D12,$V$2:$W$11,2,FALSE),"Not Found"))
Q13: =IF(OR(A13="",P13=""),"",P13-O13) | R13: =IF(OR(A13="",I13=""),"",IF(J13="Complete",0,I13-TODAY())) | S13: =IF(OR(A13="",I13=""),"",IF(J13="Complete","Complete",IF(R13<0,"At Risk",IF(L13>=0.75,"On Track","Monitor")))) | U13: =IF(D13="","",IFERROR(VLOOKUP(D13,$V$2:$W$11,2,FALSE),"Not Found"))
Q14: =IF(OR(A14="",P14=""),"",P14-O14) | R14: =IF(OR(A14="",I14=""),"",IF(J14="Complete",0,I14-TODAY())) | S14: =IF(OR(A14="",I14=""),"",IF(J14="Complete","Complete",IF(R14<0,"At Risk",IF(L14>=0.75,"On Track","Monitor")))) | U14: =IF(D14="","",IFERROR(VLOOKUP(D14,$V$2:$W$11,2,FALSE),"Not Found"))
Q15: =IF(OR(A15="",P15=""),"",P15-O15) | R15: =IF(OR(A15="",I15=""),"",IF(J15="Complete",0,I15-TODAY())) | S15: =IF(OR(A15="",I15=""),"",IF(J15="Complete","Complete",IF(R15<0,"At Risk",IF(L15>=0.75,"On Track","Monitor")))) | U15: =IF(D15="","",IFERROR(VLOOKUP(D15,$V$2:$W$11,2,FALSE),"Not Found"))
Q16: =IF(OR(A16="",P16=""),"",P16-O16) | R16: =IF(OR(A16="",I16=""),"",IF(J16="Complete",0,I16-TODAY())) | S16: =IF(OR(A16="",I16=""),"",IF(J16="Complete","Complete",IF(R16<0,"At Risk",IF(L16>=0.75,"On Track","Monitor")))) | U16: =IF(D16="","",IFERROR(VLOOKUP(D16,$V$2:$W$11,2,FALSE),"Not Found"))
Q17: =IF(OR(A17="",P17=""),"",P17-O17) | R17: =IF(OR(A17="",I17=""),"",IF(J17="Complete",0,I17-TODAY())) | S17: =IF(OR(A17="",I17=""),"",IF(J17="Complete","Complete",IF(R17<0,"At Risk",IF(L17>=0.75,"On Track","Monitor")))) | U17: =IF(D17="","",IFERROR(VLOOKUP(D17,$V$2:$W$11,2,FALSE),"Not Found"))
Q18: =IF(OR(A18="",P18=""),"",P18-O18) | R18: =IF(OR(A18="",I18=""),"",IF(J18="Complete",0,I18-TODAY())) | S18: =IF(OR(A18="",I18=""),"",IF(J18="Complete","Complete",IF(R18<0,"At Risk",IF(L18>=0.75,"On Track","Monitor")))) | U18: =IF(D18="","",IFERROR(VLOOKUP(D18,$V$2:$W$11,2,FALSE),"Not Found"))
Q19: =IF(OR(A19="",P19=""),"",P19-O19) | R19: =IF(OR(A19="",I19=""),"",IF(J19="Complete",0,I19-TODAY())) | S19: =IF(OR(A19="",I19=""),"",IF(J19="Complete","Complete",IF(R19<0,"At Risk",IF(L19>=0.75,"On Track","Monitor")))) | U19: =IF(D19="","",IFERROR(VLOOKUP(D19,$V$2:$W$11,2,FALSE),"Not Found"))
Q20: =IF(OR(A20="",P20=""),"",P20-O20) | R20: =IF(OR(A20="",I20=""),"",IF(J20="Complete",0,I20-TODAY())) | S20: =IF(OR(A20="",I20=""),"",IF(J20="Complete","Complete",IF(R20<0,"At Risk",IF(L20>=0.75,"On Track","Monitor")))) | U20: =IF(D20="","",IFERROR(VLOOKUP(D20,$V$2:$W$11,2,FALSE),"Not Found"))
Q21: =IF(OR(A21="",P21=""),"",P21-O21) | R21: =IF(OR(A21="",I21=""),"",IF(J21="Complete",0,I21-TODAY())) | S21: =IF(OR(A21="",I21=""),"",IF(J21="Complete","Complete",IF(R21<0,"At Risk",IF(L21>=0.75,"On Track","Monitor")))) | U21: =IF(D21="","",IFERROR(VLOOKUP(D21,$V$2:$W$11,2,FALSE),"Not Found"))
Q22: =IF(OR(A22="",P22=""),"",P22-O22) | R22: =IF(OR(A22="",I22=""),"",IF(J22="Complete",0,I22-TODAY())) | S22: =IF(OR(A22="",I22=""),"",IF(J22="Complete","Complete",IF(R22<0,"At Risk",IF(L22>=0.75,"On Track","Monitor")))) | U22: =IF(D22="","",IFERROR(VLOOKUP(D22,$V$2:$W$11,2,FALSE),"Not Found"))
Q23: =IF(OR(A23="",P23=""),"",P23-O23) | R23: =IF(OR(A23="",I23=""),"",IF(J23="Complete",0,I23-TODAY())) | S23: =IF(OR(A23="",I23=""),"",IF(J23="Complete","Complete",IF(R23<0,"At Risk",IF(L23>=0.75,"On Track","Monitor")))) | U23: =IF(D23="","",IFERROR(VLOOKUP(D23,$V$2:$W$11,2,FALSE),"Not Found"))
... Q101: =IF(OR(A101="",P101=""),"",P101-O101) | R101: =IF(OR(A101="",I101=""),"",IF(J101="Complete",0,I101-TODAY())) | S101: =IF(OR(A101="",I101=""),"",IF(J101="Complete","Complete",IF(R101<0,"At Risk",IF(L101>=0.75,"On Track","Monitor")))) | U101: =IF(D101="","",IFERROR(VLOOKUP(D101,$V$2:$W$11,2,FALSE),"Not Found"))

Sheet Dashboard
A1: Project Plan Dashboard
A3: Project KPI | B3: Value | D3: Status Summary | E3: Task Count
A4: Total Tasks | B4: =COUNTA('Project Plan'!$A$2:$A$101) | D4: Not Started | E4: =COUNTIF('Project Plan'!$J$2:$J$101,D4)
A5: Completed Tasks | B5: =COUNTIF('Project Plan'!$J$2:$J$101,"Complete") | D5: In Progress | E5: =COUNTIF('Project Plan'!$J$2:$J$101,D5)
A6: Overall Completion | B6: =IFERROR(AVERAGE('Project Plan'!$L$2:$L$101),0) | D6: Complete | E6: =COUNTIF('Project Plan'!$J$2:$J$101,D6)
A7: Total Budget | B7: =SUM('Project Plan'!$O$2:$O$101) | D7: On Hold | E7: =COUNTIF('Project Plan'!$J$2:$J$101,D7)
A8: Actual Cost | B8: =SUM('Project Plan'!$P$2:$P$101)
A9: Budget Variance | B9: =SUM('Project Plan'!$Q$2:$Q$101) | D9: Project Phase | E9: Task Count | F9: Average Completion | G9: Total Budget | H9: Actual Cost
A10: At-Risk Tasks | B10: =COUNTIF('Project Plan'!$S$2:$S$101,"At Risk") | D10: Planning | E10: =COUNTIF('Project Plan'!$C$2:$C$101,D10) | F10: =IFERROR(SUMIF('Project Plan'!$C$2:$C$101,D10,'Project Plan'!$L$2:$L$101)/COUNTIF('Project Plan'!$C$2:$C$101,D10),0) | G10: =SUMIF('Project Plan'!$C$2:$C$101,D10,'Project Plan'!$O$2:$O$101) | H10: =SUMIF('Project Plan'!$C$2:$C$101,D10,'Project Plan'!$P$2:$P$101)
A11: Average Planned Hours | B11: =IFERROR(AVERAGE('Project Plan'!$M$2:$M$101),0) | D11: Design | E11: =COUNTIF('Project Plan'!$C$2:$C$101,D11) | F11: =IFERROR(SUMIF('Project Plan'!$C$2:$C$101,D11,'Project Plan'!$L$2:$L$101)/COUNTIF('Project Plan'!$C$2:$C$101,D11),0) | G11: =SUMIF('Project Plan'!$C$2:$C$101,D11,'Project Plan'!$O$2:$O$101) | H11: =SUMIF('Project Plan'!$C$2:$C$101,D11,'Project Plan'!$P$2:$P$101)
D12: Development | E12: =COUNTIF('Project Plan'!$C$2:$C$101,D12) | F12: =IFERROR(SUMIF('Project Plan'!$C$2:$C$101,D12,'Project Plan'!$L$2:$L$101)/COUNTIF('Project Plan'!$C$2:$C$101,D12),0) | G12: =SUMIF('Project Plan'!$C$2:$C$101,D12,'Project Plan'!$O$2:$O$101) | H12: =SUMIF('Project Plan'!$C$2:$C$101,D12,'Project Plan'!$P$2:$P$101)
D13: Testing | E13: =COUNTIF('Project Plan'!$C$2:$C$101,D13) | F13: =IFERROR(SUMIF('Project Plan'!$C$2:$C$101,D13,'Project Plan'!$L$2:$L$101)/COUNTIF('Project Plan'!$C$2:$C$101,D13),0) | G13: =SUMIF('Project Plan'!$C$2:$C$101,D13,'Project Plan'!$O$2:$O$101) | H13: =SUMIF('Project Plan'!$C$2:$C$101,D13,'Project Plan'!$P$2:$P$101)
D14: Launch | E14: =COUNTIF('Project Plan'!$C$2:$C$101,D14) | F14: =IFERROR(SUMIF('Project Plan'!$C$2:$C$101,D14,'Project Plan'!$L$2:$L$101)/COUNTIF('Project Plan'!$C$2:$C$101,D14),0) | G14: =SUMIF('Project Plan'!$C$2:$C$101,D14,'Project Plan'!$O$2:$O$101) | H14: =SUMIF('Project Plan'!$C$2:$C$101,D14,'Project Plan'!$P$2:$P$101)
D15: Closeout | E15: =COUNTIF('Project Plan'!$C$2:$C$101,D15) | F15: =IFERROR(SUMIF('Project Plan'!$C$2:$C$101,D15,'Project Plan'!$L$2:$L$101)/COUNTIF('Project Plan'!$C$2:$C$101,D15),0) | G15: =SUMIF('Project Plan'!$C$2:$C$101,D15,'Project Plan'!$O$2:$O$101) | H15: =SUMIF('Project Plan'!$C$2:$C$101,D15,'Project Plan'!$P$2:$P$101)
A19: Sequence | B19: Milestone | C19: Owner | D19: Due Date | E19: Status
A20: =IF('Project Plan'!$D$2="","",1) | B20: =IF('Project Plan'!$D$2="","",'Project Plan'!$D$2) | C20: =IF('Project Plan'!$E$2="","",'Project Plan'!$E$2) | D20: =IF('Project Plan'!$I$2="","",'Project Plan'!$I$2) | E20: =IF('Project Plan'!$J$2="","",'Project Plan'!$J$2)
A21: =IF('Project Plan'!$D$3="","",2) | B21: =IF('Project Plan'!$D$3="","",'Project Plan'!$D$3) | C21: =IF('Project Plan'!$E$3="","",'Project Plan'!$E$3) | D21: =IF('Project Plan'!$I$3="","",'Project Plan'!$I$3) | E21: =IF('Project Plan'!$J$3="","",'Project Plan'!$J$3)
A22: =IF('Project Plan'!$D$4="","",3) | B22: =IF('Project Plan'!$D$4="","",'Project Plan'!$D$4) | C22: =IF('Project Plan'!$E$4="","",'Project Plan'!$E$4) | D22: =IF('Project Plan'!$I$4="","",'Project Plan'!$I$4) | E22: =IF('Project Plan'!$J$4="","",'Project Plan'!$J$4)
A23: =IF('Project Plan'!$D$5="","",4) | B23: =IF('Project Plan'!$D$5="","",'Project Plan'!$D$5) | C23: =IF('Project Plan'!$E$5="","",'Project Plan'!$E$5) | D23: =IF('Project Plan'!$I$5="","",'Project Plan'!$I$5) | E23: =IF('Project Plan'!$J$5="","",'Project Plan'!$J$5)
A24: =IF('Project Plan'!$D$6="","",5) | B24: =IF('Project Plan'!$D$6="","",'Project Plan'!$D$6) | C24: =IF('Project Plan'!$E$6="","",'Project Plan'!$E$6) | D24: =IF('Project Plan'!$I$6="","",'Project Plan'!$I$6) | E24: =IF('Project Plan'!$J$6="","",'Project Plan'!$J$6)
A25: =IF('Project Plan'!$D$7="","",6) | B25: =IF('Project Plan'!$D$7="","",'Project Plan'!$D$7) | C25: =IF('Project Plan'!$E$7="","",'Project Plan'!$E$7) | D25: =IF('Project Plan'!$I$7="","",'Project Plan'!$I$7) | E25: =IF('Project Plan'!$J$7="","",'Project Plan'!$J$7)
A26: =IF('Project Plan'!$D$8="","",7) | B26: =IF('Project Plan'!$D$8="","",'Project Plan'!$D$8) | C26: =IF('Project Plan'!$E$8="","",'Project Plan'!$E$8) | D26: =IF('Project Plan'!$I$8="","",'Project Plan'!$I$8) | E26: =IF('Project Plan'!$J$8="","",'Project Plan'!$J$8)
A27: =IF('Project Plan'!$D$9="","",8) | B27: =IF('Project Plan'!$D$9="","",'Project Plan'!$D$9) | C27: =IF('Project Plan'!$E$9="","",'Project Plan'!$E$9) | D27: =IF('Project Plan'!$I$9="","",'Project Plan'!$I$9) | E27: =IF('Project Plan'!$J$9="","",'Project Plan'!$J$9)
A28: =IF('Project Plan'!$D$10="","",9) | B28: =IF('Project Plan'!$D$10="","",'Project Plan'!$D$10) | C28: =IF('Project Plan'!$E$10="","",'Project Plan'!$E$10) | D28: =IF('Project Plan'!$I$10="","",'Project Plan'!$I$10) | E28: =IF('Project Plan'!$J$10="","",'Project Plan'!$J$10)
A29: =IF('Project Plan'!$D$11="","",10) | B29: =IF('Project Plan'!$D$11="","",'Project Plan'!$D$11) | C29: =IF('Project Plan'!$E$11="","",'Project Plan'!$E$11) | D29: =IF('Project Plan'!$I$11="","",'Project Plan'!$I$11) | E29: =IF('Project Plan'!$J$11="","",'Project Plan'!$J$11)
A30: =IF('Project Plan'!$D$12="","",11) | B30: =IF('Project Plan'!$D$12="","",'Project Plan'!$D$12) | C30: =IF('Project Plan'!$E$12="","",'Project Plan'!$E$12) | D30: =IF('Project Plan'!$I$12="","",'Project Plan'!$I$12) | E30: =IF('Project Plan'!$J$12="","",'Project Plan'!$J$12)
A31: =IF('Project Plan'!$D$13="","",12) | B31: =IF('Project Plan'!$D$13="","",'Project Plan'!$D$13) | C31: =IF('Project Plan'!$E$13="","",'Project Plan'!$E$13) | D31: =IF('Project Plan'!$I$13="","",'Project Plan'!$I$13) | E31: =IF('Project Plan'!$J$13="","",'Project Plan'!$J$13)
A32: =IF('Project Plan'!$D$14="","",13) | B32: =IF('Project Plan'!$D$14="","",'Project Plan'!$D$14) | C32: =IF('Project Plan'!$E$14="","",'Project Plan'!$E$14) | D32: =IF('Project Plan'!$I$14="","",'Project Plan'!$I$14) | E32: =IF('Project Plan'!$J$14="","",'Project Plan'!$J$14)
A33: =IF('Project Plan'!$D$15="","",14) | B33: =IF('Project Plan'!$D$15="","",'Project Plan'!$D$15) | C33: =IF('Project Plan'!$E$15="","",'Project Plan'!$E$15) | D33: =IF('Project Plan'!$I$15="","",'Project Plan'!$I$15) | E33: =IF('Project Plan'!$J$15="","",'Project Plan'!$J$15)
A34: =IF('Project Plan'!$D$16="","",15) | B34: =IF('Project Plan'!$D$16="","",'Project Plan'!$D$16) | C34: =IF('Project Plan'!$E$16="","",'Project Plan'!$E$16) | D34: =IF('Project Plan'!$I$16="","",'Project Plan'!$I$16) | E34: =IF('Project Plan'!$J$16="","",'Project Plan'!$J$16)
A35: =IF('Project Plan'!$D$17="","",16) | B35: =IF('Project Plan'!$D$17="","",'Project Plan'!$D$17) | C35: =IF('Project Plan'!$E$17="","",'Project Plan'!$E$17) | D35: =IF('Project Plan'!$I$17="","",'Project Plan'!$I$17) | E35: =IF('Project Plan'!$J$17="","",'Project Plan'!$J$17)
A36: =IF('Project Plan'!$D$18="","",17) | B36: =IF('Project Plan'!$D$18="","",'Project Plan'!$D$18) | C36: =IF('Project Plan'!$E$18="","",'Project Plan'!$E$18) | D36: =IF('Project Plan'!$I$18="","",'Project Plan'!$I$18) | E36: =IF('Project Plan'!$J$18="","",'Project Plan'!$J$18)
A37: =IF('Project Plan'!$D$19="","",18) | B37: =IF('Project Plan'!$D$19="","",'Project Plan'!$D$19) | C37: =IF('Project Plan'!$E$19="","",'Project Plan'!$E$19) | D37: =IF('Project Plan'!$I$19="","",'Project Plan'!$I$19) | E37: =IF('Project Plan'!$J$19="","",'Project Plan'!$J$19)
A38: =IF('Project Plan'!$D$20="","",19) | B38: =IF('Project Plan'!$D$20="","",'Project Plan'!$D$20) | C38: =IF('Project Plan'!$E$20="","",'Project Plan'!$E$20) | D38: =IF('Project Plan'!$I$20="","",'Project Plan'!$I$20) | E38: =IF('Project Plan'!$J$20="","",'Project Plan'!$J$20)
A39: =IF('Project Plan'!$D$21="","",20) | B39: =IF('Project Plan'!$D$21="","",'Project Plan'!$D$21) | C39: =IF('Project Plan'!$E$21="","",'Project Plan'!$E$21) | D39: =IF('Project Plan'!$I$21="","",'Project Plan'!$I$21) | E39: =IF('Project Plan'!$J$21="","",'Project Plan'!$J$21)
A40: =IF('Project Plan'!$D$22="","",21) | B40: =IF('Project Plan'!$D$22="","",'Project Plan'!$D$22) | C40: =IF('Project Plan'!$E$22="","",'Project Plan'!$E$22) | D40: =IF('Project Plan'!$I$22="","",'Project Plan'!$I$22) | E40: =IF('Project Plan'!$J$22="","",'Project Plan'!$J$22)
A41: =IF('Project Plan'!$D$23="","",22) | B41: =IF('Project Plan'!$D$23="","",'Project Plan'!$D$23) | C41: =IF('Project Plan'!$E$23="","",'Project Plan'!$E$23) | D41: =IF('Project Plan'!$I$23="","",'Project Plan'!$I$23) | E41: =IF('Project Plan'!$J$23="","",'Project Plan'!$J$23)
A42: =IF('Project Plan'!$D$24="","",23) | B42: =IF('Project Plan'!$D$24="","",'Project Plan'!$D$24) | C42: =IF('Project Plan'!$E$24="","",'Project Plan'!$E$24) | D42: =IF('Project Plan'!$I$24="","",'Project Plan'!$I$24) | E42: =IF('Project Plan'!$J$24="","",'Project Plan'!$J$24)
A43: =IF('Project Plan'!$D$25="","",24) | B43: =IF('Project Plan'!$D$25="","",'Project Plan'!$D$25) | C43: =IF('Project Plan'!$E$25="","",'Project Plan'!$E$25) | D43: =IF('Project Plan'!$I$25="","",'Project Plan'!$I$25) | E43: =IF('Project Plan'!$J$25="","",'Project Plan'!$J$25)
A44: =IF('Project Plan'!$D$26="","",25) | B44: =IF('Project Plan'!$D$26="","",'Project Plan'!$D$26) | C44: =IF('Project Plan'!$E$26="","",'Project Plan'!$E$26) | D44: =IF('Project Plan'!$I$26="","",'Project Plan'!$I$26) | E44: =IF('Project Plan'!$J$26="","",'Project Plan'!$J$26)
A45: =IF('Project Plan'!$D$27="","",26) | B45: =IF('Project Plan'!$D$27="","",'Project Plan'!$D$27) | C45: =IF('Project Plan'!$E$27="","",'Project Plan'!$E$27) | D45: =IF('Project Plan'!$I$27="","",'Project Plan'!$I$27) | E45: =IF('Project Plan'!$J$27="","",'Project Plan'!$J$27)
A46: =IF('Project Plan'!$D$28="","",27) | B46: =IF('Project Plan'!$D$28="","",'Project Plan'!$D$28) | C46: =IF('Project Plan'!$E$28="","",'Project Plan'!$E$28) | D46: =IF('Project Plan'!$I$28="","",'Project Plan'!$I$28) | E46: =IF('Project Plan'!$J$28="","",'Project Plan'!$J$28)
A47: =IF('Project Plan'!$D$29="","",28) | B47: =IF('Project Plan'!$D$29="","",'Project Plan'!$D$29) | C47: =IF('Project Plan'!$E$29="","",'Project Plan'!$E$29) | D47: =IF('Project Plan'!$I$29="","",'Project Plan'!$I$29) | E47: =IF('Project Plan'!$J$29="","",'Project Plan'!$J$29)
A48: =IF('Project Plan'!$D$30="","",29) | B48: =IF('Project Plan'!$D$30="","",'Project Plan'!$D$30) | C48: =IF('Project Plan'!$E$30="","",'Project Plan'!$E$30) | D48: =IF('Project Plan'!$I$30="","",'Project Plan'!$I$30) | E48: =IF('Project Plan'!$J$30="","",'Project Plan'!$J$30)
A49: =IF('Project Plan'!$D$31="","",30) | B49: =IF('Project Plan'!$D$31="","",'Project Plan'!$D$31) | C49: =IF('Project Plan'!$E$31="","",'Project Plan'!$E$31) | D49: =IF('Project Plan'!$I$31="","",'Project Plan'!$I$31) | E49: =IF('Project Plan'!$J$31="","",'Project Plan'!$J$31)
A50: =IF('Project Plan'!$D$32="","",31) | B50: =IF('Project Plan'!$D$32="","",'Project Plan'!$D$32) | C50: =IF('Project Plan'!$E$32="","",'Project Plan'!$E$32) | D50: =IF('Project Plan'!$I$32="","",'Project Plan'!$I$32) | E50: =IF('Project Plan'!$J$32="","",'Project Plan'!$J$32)
A51: =IF('Project Plan'!$D$33="","",32) | B51: =IF('Project Plan'!$D$33="","",'Project Plan'!$D$33) | C51: =IF('Project Plan'!$E$33="","",'Project Plan'!$E$33) | D51: =IF('Project Plan'!$I$33="","",'Project Plan'!$I$33) | E51: =IF('Project Plan'!$J$33="","",'Project Plan'!$J$33)
A52: =IF('Project Plan'!$D$34="","",33) | B52: =IF('Project Plan'!$D$34="","",'Project Plan'!$D$34) | C52: =IF('Project Plan'!$E$34="","",'Project Plan'!$E$34) | D52: =IF('Project Plan'!$I$34="","",'Project Plan'!$I$34) | E52: =IF('Project Plan'!$J$34="","",'Project Plan'!$J$34)
A53: =IF('Project Plan'!$D$35="","",34) | B53: =IF('Project Plan'!$D$35="","",'Project Plan'!$D$35) | C53: =IF('Project Plan'!$E$35="","",'Project Plan'!$E$35) | D53: =IF('Project Plan'!$I$35="","",'Project Plan'!$I$35) | E53: =IF('Project Plan'!$J$35="","",'Project Plan'!$J$35)
A54: =IF('Project Plan'!$D$36="","",35) | B54: =IF('Project Plan'!$D$36="","",'Project Plan'!$D$36) | C54: =IF('Project Plan'!$E$36="","",'Project Plan'!$E$36) | D54: =IF('Project Plan'!$I$36="","",'Project Plan'!$I$36) | E54: =IF('Project Plan'!$J$36="","",'Project Plan'!$J$36)
A55: =IF('Project Plan'!$D$37="","",36) | B55: =IF('Project Plan'!$D$37="","",'Project Plan'!$D$37) | C55: =IF('Project Plan'!$E$37="","",'Project Plan'!$E$37) | D55: =IF('Project Plan'!$I$37="","",'Project Plan'!$I$37) | E55: =IF('Project Plan'!$J$37="","",'Project Plan'!$J$37)
A56: =IF('Project Plan'!$D$38="","",37) | B56: =IF('Project Plan'!$D$38="","",'Project Plan'!$D$38) | C56: =IF('Project Plan'!$E$38="","",'Project Plan'!$E$38) | D56: =IF('Project Plan'!$I$38="","",'Project Plan'!$I$38) | E56: =IF('Project Plan'!$J$38="","",'Project Plan'!$J$38)
A57: =IF('Project Plan'!$D$39="","",38) | B57: =IF('Project Plan'!$D$39="","",'Project Plan'!$D$39) | C57: =IF('Project Plan'!$E$39="","",'Project Plan'!$E$39) | D57: =IF('Project Plan'!$I$39="","",'Project Plan'!$I$39) | E57: =IF('Project Plan'!$J$39="","",'Project Plan'!$J$39)
A58: =IF('Project Plan'!$D$40="","",39) | B58: =IF('Project Plan'!$D$40="","",'Project Plan'!$D$40) | C58: =IF('Project Plan'!$E$40="","",'Project Plan'!$E$40) | D58: =IF('Project Plan'!$I$40="","",'Project Plan'!$I$40) | E58: =IF('Project Plan'!$J$40="","",'Project Plan'!$J$40)
A59: =IF('Project Plan'!$D$41="","",40) | B59: =IF('Project Plan'!$D$41="","",'Project Plan'!$D$41) | C59: =IF('Project Plan'!$E$41="","",'Project Plan'!$E$41) | D59: =IF('Project Plan'!$I$41="","",'Project Plan'!$I$41) | E59: =IF('Project Plan'!$J$41="","",'Project Plan'!$J$41)
A60: =IF('Project Plan'!$D$42="","",41) | B60: =IF('Project Plan'!$D$42="","",'Project Plan'!$D$42) | C60: =IF('Project Plan'!$E$42="","",'Project Plan'!$E$42) | D60: =IF('Project Plan'!$I$42="","",'Project Plan'!$I$42) | E60: =IF('Project Plan'!$J$42="","",'Project Plan'!$J$42)
A61: =IF('Project Plan'!$D$43="","",42) | B61: =IF('Project Plan'!$D$43="","",'Project Plan'!$D$43) | C61: =IF('Project Plan'!$E$43="","",'Project Plan'!$E$43) | D61: =IF('Project Plan'!$I$43="","",'Project Plan'!$I$43) | E61: =IF('Project Plan'!$J$43="","",'Project Plan'!$J$43)
A62: =IF('Project Plan'!$D$44="","",43) | B62: =IF('Project Plan'!$D$44="","",'Project Plan'!$D$44) | C62: =IF('Project Plan'!$E$44="","",'Project Plan'!$E$44) | D62: =IF('Project Plan'!$I$44="","",'Project Plan'!$I$44) | E62: =IF('Project Plan'!$J$44="","",'Project Plan'!$J$44)
A63: =IF('Project Plan'!$D$45="","",44) | B63: =IF('Project Plan'!$D$45="","",'Project Plan'!$D$45) | C63: =IF('Project Plan'!$E$45="","",'Project Plan'!$E$45) | D63: =IF('Project Plan'!$I$45="","",'Project Plan'!$I$45) | E63: =IF('Project Plan'!$J$45="","",'Project Plan'!$J$45)
A64: =IF('Project Plan'!$D$46="","",45) | B64: =IF('Project Plan'!$D$46="","",'Project Plan'!$D$46) | C64: =IF('Project Plan'!$E$46="","",'Project Plan'!$E$46) | D64: =IF('Project Plan'!$I$46="","",'Project Plan'!$I$46) | E64: =IF('Project Plan'!$J$46="","",'Project Plan'!$J$46)
A65: =IF('Project Plan'!$D$47="","",46) | B65: =IF('Project Plan'!$D$47="","",'Project Plan'!$D$47) | C65: =IF('Project Plan'!$E$47="","",'Project Plan'!$E$47) | D65: =IF('Project Plan'!$I$47="","",'Project Plan'!$I$47) | E65: =IF('Project Plan'!$J$47="","",'Project Plan'!$J$47)
A66: =IF('Project Plan'!$D$48="","",47) | B66: =IF('Project Plan'!$D$48="","",'Project Plan'!$D$48) | C66: =IF('Project Plan'!$E$48="","",'Project Plan'!$E$48) | D66: =IF('Project Plan'!$I$48="","",'Project Plan'!$I$48) | E66: =IF('Project Plan'!$J$48="","",'Project Plan'!$J$48)
A67: =IF('Project Plan'!$D$49="","",48) | B67: =IF('Project Plan'!$D$49="","",'Project Plan'!$D$49) | C67: =IF('Project Plan'!$E$49="","",'Project Plan'!$E$49) | D67: =IF('Project Plan'!$I$49="","",'Project Plan'!$I$49) | E67: =IF('Project Plan'!$J$49="","",'Project Plan'!$J$49)
A68: =IF('Project Plan'!$D$50="","",49) | B68: =IF('Project Plan'!$D$50="","",'Project Plan'!$D$50) | C68: =IF('Project Plan'!$E$50="","",'Project Plan'!$E$50) | D68: =IF('Project Plan'!$I$50="","",'Project Plan'!$I$50) | E68: =IF('Project Plan'!$J$50="","",'Project Plan'!$J$50)
A69: =IF('Project Plan'!$D$51="","",50) | B69: =IF('Project Plan'!$D$51="","",'Project Plan'!$D$51) | C69: =IF('Project Plan'!$E$51="","",'Project Plan'!$E$51) | D69: =IF('Project Plan'!$I$51="","",'Project Plan'!$I$51) | E69: =IF('Project Plan'!$J$51="","",'Project Plan'!$J$51)
A70: =IF('Project Plan'!$D$52="","",51) | B70: =IF('Project Plan'!$D$52="","",'Project Plan'!$D$52) | C70: =IF('Project Plan'!$E$52="","",'Project Plan'!$E$52) | D70: =IF('Project Plan'!$I$52="","",'Project Plan'!$I$52) | E70: =IF('Project Plan'!$J$52="","",'Project Plan'!$J$52)
A71: =IF('Project Plan'!$D$53="","",52) | B71: =IF('Project Plan'!$D$53="","",'Project Plan'!$D$53) | C71: =IF('Project Plan'!$E$53="","",'Project Plan'!$E$53) | D71: =IF('Project Plan'!$I$53="","",'Project Plan'!$I$53) | E71: =IF('Project Plan'!$J$53="","",'Project Plan'!$J$53)
A72: =IF('Project Plan'!$D$54="","",53) | B72: =IF('Project Plan'!$D$54="","",'Project Plan'!$D$54) | C72: =IF('Project Plan'!$E$54="","",'Project Plan'!$E$54) | D72: =IF('Project Plan'!$I$54="","",'Project Plan'!$I$54) | E72: =IF('Project Plan'!$J$54="","",'Project Plan'!$J$54)
A73: =IF('Project Plan'!$D$55="","",54) | B73: =IF('Project Plan'!$D$55="","",'Project Plan'!$D$55) | C73: =IF('Project Plan'!$E$55="","",'Project Plan'!$E$55) | D73: =IF('Project Plan'!$I$55="","",'Project Plan'!$I$55) | E73: =IF('Project Plan'!$J$55="","",'Project Plan'!$J$55)
A74: =IF('Project Plan'!$D$56="","",55) | B74: =IF('Project Plan'!$D$56="","",'Project Plan'!$D$56) | C74: =IF('Project Plan'!$E$56="","",'Project Plan'!$E$56) | D74: =IF('Project Plan'!$I$56="","",'Project Plan'!$I$56) | E74: =IF('Project Plan'!$J$56="","",'Project Plan'!$J$56)
A75: =IF('Project Plan'!$D$57="","",56) | B75: =IF('Project Plan'!$D$57="","",'Project Plan'!$D$57) | C75: =IF('Project Plan'!$E$57="","",'Project Plan'!$E$57) | D75: =IF('Project Plan'!$I$57="","",'Project Plan'!$I$57) | E75: =IF('Project Plan'!$J$57="","",'Project Plan'!$J$57)
A76: =IF('Project Plan'!$D$58="","",57) | B76: =IF('Project Plan'!$D$58="","",'Project Plan'!$D$58) | C76: =IF('Project Plan'!$E$58="","",'Project Plan'!$E$58) | D76: =IF('Project Plan'!$I$58="","",'Project Plan'!$I$58) | E76: =IF('Project Plan'!$J$58="","",'Project Plan'!$J$58)
A77: =IF('Project Plan'!$D$59="","",58) | B77: =IF('Project Plan'!$D$59="","",'Project Plan'!$D$59) | C77: =IF('Project Plan'!$E$59="","",'Project Plan'!$E$59) | D77: =IF('Project Plan'!$I$59="","",'Project Plan'!$I$59) | E77: =IF('Project Plan'!$J$59="","",'Project Plan'!$J$59)
A78: =IF('Project Plan'!$D$60="","",59) | B78: =IF('Project Plan'!$D$60="","",'Project Plan'!$D$60) | C78: =IF('Project Plan'!$E$60="","",'Project Plan'!$E$60) | D78: =IF('Project Plan'!$I$60="","",'Project Plan'!$I$60) | E78: =IF('Project Plan'!$J$60="","",'Project Plan'!$J$60)
A79: =IF('Project Plan'!$D$61="","",60) | B79: =IF('Project Plan'!$D$61="","",'Project Plan'!$D$61) | C79: =IF('Project Plan'!$E$61="","",'Project Plan'!$E$61) | D79: =IF('Project Plan'!$I$61="","",'Project Plan'!$I$61) | E79: =IF('Project Plan'!$J$61="","",'Project Plan'!$J$61)
A80: =IF('Project Plan'!$D$62="","",61) | B80: =IF('Project Plan'!$D$62="","",'Project Plan'!$D$62) | C80: =IF('Project Plan'!$E$62="","",'Project Plan'!$E$62) | D80: =IF('Project Plan'!$I$62="","",'Project Plan'!$I$62) | E80: =IF('Project Plan'!$J$62="","",'Project Plan'!$J$62)
A81: =IF('Project Plan'!$D$63="","",62) | B81: =IF('Project Plan'!$D$63="","",'Project Plan'!$D$63) | C81: =IF('Project Plan'!$E$63="","",'Project Plan'!$E$63) | D81: =IF('Project Plan'!$I$63="","",'Project Plan'!$I$63) | E81: =IF('Project Plan'!$J$63="","",'Project Plan'!$J$63)
A82: =IF('Project Plan'!$D$64="","",63) | B82: =IF('Project Plan'!$D$64="","",'Project Plan'!$D$64) | C82: =IF('Project Plan'!$E$64="","",'Project Plan'!$E$64) | D82: =IF('Project Plan'!$I$64="","",'Project Plan'!$I$64) | E82: =IF('Project Plan'!$J$64="","",'Project Plan'!$J$64)
A83: =IF('Project Plan'!$D$65="","",64) | B83: =IF('Project Plan'!$D$65="","",'Project Plan'!$D$65) | C83: =IF('Project Plan'!$E$65="","",'Project Plan'!$E$65) | D83: =IF('Project Plan'!$I$65="","",'Project Plan'!$I$65) | E83: =IF('Project Plan'!$J$65="","",'Project Plan'!$J$65)
A84: =IF('Project Plan'!$D$66="","",65) | B84: =IF('Project Plan'!$D$66="","",'Project Plan'!$D$66) | C84: =IF('Project Plan'!$E$66="","",'Project Plan'!$E$66) | D84: =IF('Project Plan'!$I$66="","",'Project Plan'!$I$66) | E84: =IF('Project Plan'!$J$66="","",'Project Plan'!$J$66)
A85: =IF('Project Plan'!$D$67="","",66) | B85: =IF('Project Plan'!$D$67="","",'Project Plan'!$D$67) | C85: =IF('Project Plan'!$E$67="","",'Project Plan'!$E$67) | D85: =IF('Project Plan'!$I$67="","",'Project Plan'!$I$67) | E85: =IF('Project Plan'!$J$67="","",'Project Plan'!$J$67)
A86: =IF('Project Plan'!$D$68="","",67) | B86: =IF('Project Plan'!$D$68="","",'Project Plan'!$D$68) | C86: =IF('Project Plan'!$E$68="","",'Project Plan'!$E$68) | D86: =IF('Project Plan'!$I$68="","",'Project Plan'!$I$68) | E86: =IF('Project Plan'!$J$68="","",'Project Plan'!$J$68)
A87: =IF('Project Plan'!$D$69="","",68) | B87: =IF('Project Plan'!$D$69="","",'Project Plan'!$D$69) | C87: =IF('Project Plan'!$E$69="","",'Project Plan'!$E$69) | D87: =IF('Project Plan'!$I$69="","",'Project Plan'!$I$69) | E87: =IF('Project Plan'!$J$69="","",'Project Plan'!$J$69)
A88: =IF('Project Plan'!$D$70="","",69) | B88: =IF('Project Plan'!$D$70="","",'Project Plan'!$D$70) | C88: =IF('Project Plan'!$E$70="","",'Project Plan'!$E$70) | D88: =IF('Project Plan'!$I$70="","",'Project Plan'!$I$70) | E88: =IF('Project Plan'!$J$70="","",'Project Plan'!$J$70)
A89: =IF('Project Plan'!$D$71="","",70) | B89: =IF('Project Plan'!$D$71="","",'Project Plan'!$D$71) | C89: =IF('Project Plan'!$E$71="","",'Project Plan'!$E$71) | D89: =IF('Project Plan'!$I$71="","",'Project Plan'!$I$71) | E89: =IF('Project Plan'!$J$71="","",'Project Plan'!$J$71)
A90: =IF('Project Plan'!$D$72="","",71) | B90: =IF('Project Plan'!$D$72="","",'Project Plan'!$D$72) | C90: =IF('Project Plan'!$E$72="","",'Project Plan'!$E$72) | D90: =IF('Project Plan'!$I$72="","",'Project Plan'!$I$72) | E90: =IF('Project Plan'!$J$72="","",'Project Plan'!$J$72)
A91: =IF('Project Plan'!$D$73="","",72) | B91: =IF('Project Plan'!$D$73="","",'Project Plan'!$D$73) | C91: =IF('Project Plan'!$E$73="","",'Project Plan'!$E$73) | D91: =IF('Project Plan'!$I$73="","",'Project Plan'!$I$73) | E91: =IF('Project Plan'!$J$73="","",'Project Plan'!$J$73)
A92: =IF('Project Plan'!$D$74="","",73) | B92: =IF('Project Plan'!$D$74="","",'Project Plan'!$D$74) | C92: =IF('Project Plan'!$E$74="","",'Project Plan'!$E$74) | D92: =IF('Project Plan'!$I$74="","",'Project Plan'!$I$74) | E92: =IF('Project Plan'!$J$74="","",'Project Plan'!$J$74)
A93: =IF('Project Plan'!$D$75="","",74) | B93: =IF('Project Plan'!$D$75="","",'Project Plan'!$D$75) | C93: =IF('Project Plan'!$E$75="","",'Project Plan'!$E$75) | D93: =IF('Project Plan'!$I$75="","",'Project Plan'!$I$75) | E93: =IF('Project Plan'!$J$75="","",'Project Plan'!$J$75)
A94: =IF('Project Plan'!$D$76="","",75) | B94: =IF('Project Plan'!$D$76="","",'Project Plan'!$D$76) | C94: =IF('Project Plan'!$E$76="","",'Project Plan'!$E$76) | D94: =IF('Project Plan'!$I$76="","",'Project Plan'!$I$76) | E94: =IF('Project Plan'!$J$76="","",'Project Plan'!$J$76)
A95: =IF('Project Plan'!$D$77="","",76) | B95: =IF('Project Plan'!$D$77="","",'Project Plan'!$D$77) | C95: =IF('Project Plan'!$E$77="","",'Project Plan'!$E$77) | D95: =IF('Project Plan'!$I$77="","",'Project Plan'!$I$77) | E95: =IF('Project Plan'!$J$77="","",'Project Plan'!$J$77)
A96: =IF('Project Plan'!$D$78="","",77) | B96: =IF('Project Plan'!$D$78="","",'Project Plan'!$D$78) | C96: =IF('Project Plan'!$E$78="","",'Project Plan'!$E$78) | D96: =IF('Project Plan'!$I$78="","",'Project Plan'!$I$78) | E96: =IF('Project Plan'!$J$78="","",'Project Plan'!$J$78)
A97: =IF('Project Plan'!$D$79="","",78) | B97: =IF('Project Plan'!$D$79="","",'Project Plan'!$D$79) | C97: =IF('Project Plan'!$E$79="","",'Project Plan'!$E$79) | D97: =IF('Project Plan'!$I$79="","",'Project Plan'!$I$79) | E97: =IF('Project Plan'!$J$79="","",'Project Plan'!$J$79)
A98: =IF('Project Plan'!$D$80="","",79) | B98: =IF('Project Plan'!$D$80="","",'Project Plan'!$D$80) | C98: =IF('Project Plan'!$E$80="","",'Project Plan'!$E$80) | D98: =IF('Project Plan'!$I$80="","",'Project Plan'!$I$80) | E98: =IF('Project Plan'!$J$80="","",'Project Plan'!$J$80)
A99: =IF('Project Plan'!$D$81="","",80) | B99: =IF('Project Plan'!$D$81="","",'Project Plan'!$D$81) | C99: =IF('Project Plan'!$E$81="","",'Project Plan'!$E$81) | D99: =IF('Project Plan'!$I$81="","",'Project Plan'!$I$81) | E99: =IF('Project Plan'!$J$81="","",'Project Plan'!$J$81)
A100: =IF('Project Plan'!$D$82="","",81) | B100: =IF('Project Plan'!$D$82="","",'Project Plan'!$D$82) | C100: =IF('Project Plan'!$E$82="","",'Project Plan'!$E$82) | D100: =IF('Project Plan'!$I$82="","",'Project Plan'!$I$82) | E100: =IF('Project Plan'!$J$82="","",'Project Plan'!$J$82)
A101: =IF('Project Plan'!$D$83="","",82) | B101: =IF('Project Plan'!$D$83="","",'Project Plan'!$D$83) | C101: =IF('Project Plan'!$E$83="","",'Project Plan'!$E$83) | D101: =IF('Project Plan'!$I$83="","",'Project Plan'!$I$83) | E101: =IF('Project Plan'!$J$83="","",'Project Plan'!$J$83)
A102: =IF('Project Plan'!$D$84="","",83) | B102: =IF('Project Plan'!$D$84="","",'Project Plan'!$D$84) | C102: =IF('Project Plan'!$E$84="","",'Project Plan'!$E$84) | D102: =IF('Project Plan'!$I$84="","",'Project Plan'!$I$84) | E102: =IF('Project Plan'!$J$84="","",'Project Plan'!$J$84)
A103: =IF('Project Plan'!$D$85="","",84) | B103: =IF('Project Plan'!$D$85="","",'Project Plan'!$D$85) | C103: =IF('Project Plan'!$E$85="","",'Project Plan'!$E$85) | D103: =IF('Project Plan'!$I$85="","",'Project Plan'!$I$85) | E103: =IF('Project Plan'!$J$85="","",'Project Plan'!$J$85)
A104: =IF('Project Plan'!$D$86="","",85) | B104: =IF('Project Plan'!$D$86="","",'Project Plan'!$D$86) | C104: =IF('Project Plan'!$E$86="","",'Project Plan'!$E$86) | D104: =IF('Project Plan'!$I$86="","",'Project Plan'!$I$86) | E104: =IF('Project Plan'!$J$86="","",'Project Plan'!$J$86)
...

Sheet Instructions
A1: Project Plan With Milestones Template Guide
A3: Guide Topic | B3: How to Use This Workbook
A4: Project Plan | B4: Enter one task per row on the Project Plan sheet. Add new tasks in the prepared rows below the sample tasks and keep each Task ID unique.
A5: Task Details | B5: Update Task Name, Project Phase, Milestone, Owner, Department, City, Start Date, Due Date, and Notes as the project changes.
A6: Status and Priority | B6: Use the Status dropdown to select Not Started, In Progress, Complete, or On Hold. Use the Priority dropdown to identify High, Medium, or Low priority work.
A7: Completion % | B7: Enter Completion % as a percentage from 0% to 100%. The On Track? result uses the completion percentage together with the due date.
A8: Milestones | B8: Milestone names and due dates feed the Dashboard timeline. The Lookup Phase helper uses a milestone reference lookup to confirm the expected project phase.
A9: Budget Tracking | B9: Budget is the planned amount. Actual Cost is the amount spent. Variance is calculated as Actual Cost minus Budget, so a negative value indicates spending below budget.
A10: Project Health | B10: Complete means the task is finished. On Track means the task is at least 75% complete and not overdue. Monitor means the task needs attention. At Risk means the due date has passed before completion.
A11: Days Remaining | B11: Days Remaining updates automatically with TODAY(). Completed tasks show zero days remaining.
A12: Dashboard | B12: Use the Dashboard for project KPIs, status counts, phase-level budget comparisons, and the milestone due-date trend.
A13: Formula Cells | B13: Pale yellow cells are intended for editing. Formula-driven fields such as Variance, Days Remaining, On Track?, KPI values, and dashboard summaries update automatically.
